BEGIN:VCALENDAR
VERSION:2.0
PRODID:icalendar-ruby
CALSCALE:GREGORIAN
METHOD:PUBLISH
BEGIN:VEVENT
DTSTAMP:20260423T101259Z
UID:57bd2017-0c82-45ee-bafb-5ca07a7ec5db
DTSTART:20221008T120000
DTEND:20221009T000000
DESCRIPTION:<p class="ql-align-center"><strong style="color: rgb(32\, 32\, 
 32)\;">THE OFFICIAL COUNTDOWN HAS BEGUN</strong></p><p class="ql-align-cen
 ter"><span style="color: rgb(32\, 32\, 32)\;"> </span></p><p><strong styl
 e="color: rgb(32\, 32\, 32)\;">Johannesburg\, South Africa</strong><span s
 tyle="color: rgb(32\, 32\, 32)\;"> – With the past three years we have 
 been through - now is the time to get back to living. This October will se
 e the delayed 10th Anniversary celebrations for one of SA’s legendary mu
 sic festivals Spring Fiesta come to life.</span></p><p><span style="color:
  rgb(32\, 32\, 32)\;"> </span></p><p><span style="color: rgb(32\, 32\, 32
 )\;">Over a decade in the making\, Spring Fiesta 2022 will return to its 
 home at the well-loved ultimate party destination Wild Waters Complex in B
 oksburg\, Ekurhuleni on Saturday\, the 8th of October 2022</span><strong 
 style="color: rgb(32\, 32\, 32)\;">.</strong></p><p><span style="color: rg
 b(32\, 32\, 32)\;"> </span></p><p><span style="color: rgb(32\, 32\, 32)\;
 ">Last month organisers confirmed the return of the festival\, due to take
  place later this year. The team today confirmed that the festival will ho
 st a 100% carefully curated local line-up\, over their 5 legendary stages.
 </span><strong style="color: rgb(32\, 32\, 32)\;"> </strong></p><p><br></
 p><p><strong style="color: rgb(32\, 32\, 32)\;">These include:</strong></p
 ><p><span style="color: rgb(32\, 32\, 32)\;"> </span></p><p><strong style
 ="color: rgb(32\, 32\, 32)\;"><u>SOUL CANDI LIVE MAIN STAGE </u></strong>
 </p><p><br></p><p><strong style="color: rgb(32\, 32\, 32)\;">Black Motion<
 /strong></p><p><strong style="color: rgb(32\, 32\, 32)\;">Maphorisa</stron
 g></p><p><strong style="color: rgb(32\, 32\, 32)\;">AKA</strong></p><p><st
 rong style="color: rgb(32\, 32\, 32)\;">Daliwonga</strong></p><p><strong s
 tyle="color: rgb(32\, 32\, 32)\;">DJ Kent</strong></p><p><strong style="co
 lor: rgb(32\, 32\, 32)\;">Kamp Mphela</strong></p><p><strong style="color:
  rgb(32\, 32\, 32)\;">Ami Faku</strong></p><p><strong style="color: rgb(32
 \, 32\, 32)\;">Youngstunna</strong></p><p><strong style="color: rgb(32\, 3
 2\, 32)\;">DJ Tira</strong></p><p><strong style="color: rgb(32\, 32\, 32)\
 ;">Amaroto</strong></p><p><strong style="color: rgb(32\, 32\, 32)\;">Heavy
  K</strong></p><p><strong style="color: rgb(32\, 32\, 32)\;">Lamiez Holwor
 thy</strong></p><p><strong style="color: rgb(32\, 32\, 32)\;">SPHEctula an
 d DJ Naves - Kings of the Weekend</strong></p><p><strong style="color: rgb
 (32\, 32\, 32)\;">Dladla Mshunqisi</strong></p><p><strong style="color: rg
 b(32\, 32\, 32)\;">Lerato Kganyago</strong></p><p><strong style="color: rg
 b(32\, 32\, 32)\;">Mo Flava</strong></p><p><strong style="color: rgb(32\, 
 32\, 32)\;">Lulo Cafe</strong></p><p><strong style="color: rgb(32\, 32\, 3
 2)\;">DJ Nel</strong></p><p><br></p><p><strong style="color: rgb(32\, 32\,
  32)\;">MC: Anele Zondo and Zane Gulston</strong></p><p><br></p><p><strong
  style="color: rgb(32\, 32\, 32)\;"><u>STAY TRUE SOUNDS STAGE (hosted by K
 id Fonque)</u></strong></p><p><br></p><p><strong style="color: rgb(32\, 32
 \, 32)\;">Kid Fonque</strong></p><p><strong style="color: rgb(32\, 32\, 32
 )\;">Nutty Nys</strong></p><p><strong style="color: rgb(32\, 32\, 32)\;">C
 hronical Deep</strong></p><p><strong style="color: rgb(32\, 32\, 32)\;">SI
 O</strong></p><p><strong style="color: rgb(32\, 32\, 32)\;">China and Andy
 Andile</strong></p><p><strong style="color: rgb(32\, 32\, 32)\;">DJ Buhle<
 /strong></p><p><strong style="color: rgb(32\, 32\, 32)\;">FKA Mash</strong
 ></p><p><strong style="color: rgb(32\, 32\, 32)\;">SGVO</strong></p><p><st
 rong style="color: rgb(32\, 32\, 32)\;">Kat La Kat</strong></p><p><strong 
 style="color: rgb(32\, 32\, 32)\;">Kvrvbo</strong></p><p><strong style="co
 lor: rgb(32\, 32\, 32)\;">Hypaphonik</strong></p><p><strong style="color: 
 rgb(32\, 32\, 32)\;">Vinny da Vinci and Christos</strong></p><p><br></p><p
 ><strong style="color: rgb(32\, 32\, 32)\;"><u>BAKONE AFRO TECH STAGE (hos
 ted by Da Capo)</u></strong></p><p><strong style="color: rgb(32\, 32\, 32)
 \;">Da Capo</strong></p><p><strong style="color: rgb(32\, 32\, 32)\;">Caii
 ro</strong></p><p><strong style="color: rgb(32\, 32\, 32)\;">Lemon & Herb<
 /strong></p><p><strong style="color: rgb(32\, 32\, 32)\;">Citizen Deep</st
 rong></p><p><strong style="color: rgb(32\, 32\, 32)\;">Culoe De Song</stro
 ng></p><p><strong style="color: rgb(32\, 32\, 32)\;">Morda</strong></p><p>
 <strong style="color: rgb(32\, 32\, 32)\;">Kenza</strong></p><p><strong st
 yle="color: rgb(32\, 32\, 32)\;">Malumz on Decks</strong></p><p><strong st
 yle="color: rgb(32\, 32\, 32)\;">Vanco</strong></p><p><strong style="color
 : rgb(32\, 32\, 32)\;">Roger Goode</strong></p><p><strong style="color: rg
 b(32\, 32\, 32)\;">Kasango</strong></p><p><strong style="color: rgb(32\, 3
 2\, 32)\;">Da Africa Deep</strong></p><p><br></p><p><strong style="color: 
 rgb(32\, 32\, 32)\;"><u>PIANO DREAMLAND AMAPIANO (Presented by Gazza)</u><
 /strong></p><p><strong style="color: rgb(32\, 32\, 32)\;"><em>Hosted by Th
 ulani Way</em></strong></p><p><br></p><p><strong style="color: rgb(32\, 32
 \, 32)\;">Felo Le Tee</strong></p><p><strong style="color: rgb(32\, 32\, 3
 2)\;">Kelvin Momo</strong></p><p><strong style="color: rgb(32\, 32\, 32)\;
 ">Njelic</strong></p><p><strong style="color: rgb(32\, 32\, 32)\;">Mellow 
 and Sleazy</strong></p><p><strong style="color: rgb(32\, 32\, 32)\;">Gazza
 </strong></p><p><strong style="color: rgb(32\, 32\, 32)\;">Shaun 101</stro
 ng></p><p><strong style="color: rgb(32\, 32\, 32)\;">Kaygee The Vibe</stro
 ng></p><p><strong style="color: rgb(32\, 32\, 32)\;">Shejay Glam</strong><
 /p><p><strong style="color: rgb(32\, 32\, 32)\;">Mfundo Glam</strong></p><
 p><strong style="color: rgb(32\, 32\, 32)\;">Readasoul</strong></p><p><str
 ong style="color: rgb(32\, 32\, 32)\;">MFR Souls</strong></p><p><strong st
 yle="color: rgb(32\, 32\, 32)\;">Linda Moeketsi</strong></p><p><strong sty
 le="color: rgb(32\, 32\, 32)\;">Hectic & Siya</strong></p><p><strong style
 ="color: rgb(32\, 32\, 32)\;">MC: Uncool MC</strong></p><p><br></p><p><str
 ong style="color: rgb(32\, 32\, 32)\;"><u>THIS IS HI(PH)OP STAGE (hosted b
 y PH)</u></strong></p><p><br></p><p><strong style="color: rgb(32\, 32\, 32
 )\;">BLXCKIE</strong></p><p><strong style="color: rgb(32\, 32\, 32)\;">PH<
 /strong></p><p><strong style="color: rgb(32\, 32\, 32)\;">Costa Tich</stro
 ng></p><p><strong style="color: rgb(32\, 32\, 32)\;">Emtee</strong></p><p>
 <strong style="color: rgb(32\, 32\, 32)\;">Loki</strong></p><p><strong sty
 le="color: rgb(32\, 32\, 32)\;">Venom</strong></p><p><strong style="color:
  rgb(32\, 32\, 32)\;">No Comply</strong></p><p><strong style="color: rgb(3
 2\, 32\, 32)\;">Fae Fae</strong></p><p><strong style="color: rgb(32\, 32\,
  32)\;">Kyotic</strong></p><p><strong style="color: rgb(32\, 32\, 32)\;">H
 udson</strong></p><p><strong style="color: rgb(32\, 32\, 32)\;">Ryan The D
 J</strong></p><p><strong style="color: rgb(32\, 32\, 32)\;">Banques</stron
 g></p><p><strong style="color: rgb(32\, 32\, 32)\;">Jovis</strong></p><p><
 strong style="color: rgb(32\, 32\, 32)\;">Pedabotic</strong></p><p><strong
  style="color: rgb(32\, 32\, 32)\;">Lesedi The DJ</strong></p><p><strong s
 tyle="color: rgb(32\, 32\, 32)\;">Majorsteez</strong></p><p><br></p><p><st
 rong style="color: rgb(32\, 32\, 32)\;">MC: Killamo</strong></p><p><br></p
 ><p><strong style="color: rgb(32\, 32\, 32)\;">--- --- --- --- --- --- ---
  --- --- --- --- --- --- --- --- --- --- --- --- --- --- --- --- --- --- -
 -- --- --- --- --- --- --- --- --- --- --- --- --- --- </strong></p><p><s
 pan style="color: rgb(32\, 32\, 32)\;"> </span></p><p><strong style="colo
 r: rgb(32\, 32\, 32)\;">IMPORTANT INFORMATION</strong></p><p><strong style
 ="color: rgb(32\, 32\, 32)\;"> </strong></p><p><strong style="color: rgb(
 32\, 32\, 32)\;">Date             :             
           Saturday\, 8th October 2022</strong></p><p><strong st
 yle="color: rgb(32\, 32\, 32)\;">Venue           :      
                  Wild Waters Complex\, Boksburg</strong><
 /p><p><strong style="color: rgb(32\, 32\, 32)\;">Time          
     :                       12pm onwards</stron
 g></p><p><strong style="color: rgb(32\, 32\, 32)\;">Tickets       
   :                      LIMITED tickets now Avail
 able at </strong><a href="https://bit.ly/SpringFiesta2022" target="_blank
 " style="color: rgb(0\, 124\, 137)\;"><strong>Howler.co.za</strong></a></p
 ><p><strong style="color: rgb(32\, 32\, 32)\;">--- --- --- --- --- --- ---
  --- --- --- --- --- --- --- --- --- --- --- --- --- --- --- --- --- --- -
 -- --- --- --- --- --- --- --- --- --- --- --- --- --- --- </strong></p><
 p><span style="color: rgb(32\, 32\, 32)\;"> </span></p><p><strong style="
 color: rgb(32\, 32\, 32)\;"><u>STANDARD SINGLE TICKET PRICES</u></strong><
 /p><p><br></p><p><strong style="color: rgb(32\, 32\, 32)\;">GA: R350 / VIP
 : R650 / VVP: R1000</strong></p><p><br></p><p><strong style="color: rgb(32
 \, 32\, 32)\;"><u>PACKAGE DEALS</u></strong></p><p><br></p><p><strong styl
 e="color: rgb(32\, 32\, 32)\;">PLATIUM</strong></p><p><strong style="color
 : rgb(32\, 32\, 32)\;">* 2x VVIP tickets</strong></p><p><strong style="col
 or: rgb(32\, 32\, 32)\;">* 1x Double Sliverbirch Room</strong></p><p><stro
 ng style="color: rgb(32\, 32\, 32)\;">* Shuttle service to & from Spring F
 iesta (Dedicated drop off time of 12.30pm & pick up time of 00.00am)</stro
 ng></p><p><strong style="color: rgb(32\, 32\, 32)\;">* Breakfast Included<
 /strong></p><p><strong style="color: rgb(32\, 32\, 32)\;">PRICE – R3000 
 (Valued at R3600)</strong></p><p><br></p><p><strong style="color: rgb(32\,
  32\, 32)\;">GOLD</strong></p><p><strong style="color: rgb(32\, 32\, 32)\;
 ">* 2 x VIP tickets to Spring Fiesta</strong></p><p><strong style="color: 
 rgb(32\, 32\, 32)\;">* 1 x Double Birchwood Standard Room</strong></p><p><
 strong style="color: rgb(32\, 32\, 32)\;">* Breakfast included</strong></p
 ><p><strong style="color: rgb(32\, 32\, 32)\;">* Shuttle to & from Spring 
 Fiesta at dedicated drop off point (Drop off - 12.30pm\, Pick Up - 00.00am
 )</strong></p><p><strong style="color: rgb(32\, 32\, 32)\;">PRICE – R220
 0 (Valued at R2900)</strong></p><p><br></p><p><strong style="color: rgb(32
 \, 32\, 32)\;">SILVER</strong></p><p><strong style="color: rgb(32\, 32\, 3
 2)\;">* 2 x GA tickets to Spring Fiesta</strong></p><p><strong style="colo
 r: rgb(32\, 32\, 32)\;">* 1 x Double Value Stay Room at the Birchwood Hote
 l </strong></p><p><strong style="color: rgb(32\, 32\, 32)\;">* Breakfast 
 included</strong></p><p><strong style="color: rgb(32\, 32\, 32)\;">* Shutt
 le to & from Spring Fiesta at dedicated drop off point (Drop off - 12.30pm
 \, Pick Up - 00.00am)</strong></p><p><strong style="color: rgb(32\, 32\, 3
 2)\;">PRICE - R1800 (Valued at R2400 ) </strong></p><p><br></p><p><strong
  style="color: rgb(32\, 32\, 32)\;"><u>10TH ANNIVERSARY SPECIAL</u> </str
 ong></p><p><strong style="color: rgb(32\, 32\, 32)\;">4 Tickets for the Pr
 ice of 3 </strong></p><p><strong style="color: rgb(32\, 32\, 32)\;">Appli
 cable for GA ONLY</strong></p><p><br></p><p><strong style="color: rgb(32\,
  32\, 32)\;">Phase 2 (NOW): R1050</strong></p><p><strong style="color: rgb
 (32\, 32\, 32)\;">Phase 3 (SEPT): R1350</strong></p><p><br></p><p><br></p>
 <p><span style="color: rgb(32\, 32\, 32)\;">With what promises the celebra
 tion festival of the decade\, make sure you get your tickets today.</span>
 </p><p><br></p><p><span style="color: rgb(32\, 32\, 32)\;"> </span></p><p
 ><br></p>
LOCATION:Wild Waters Complex\, Boksburg
SUMMARY:Spring Fiesta 2022 - 8 October | Wild Waters Complex
URL;VALUE=URI:https://soulcandi.howler.co.za/springfiesta2022
END:VEVENT
END:VCALENDAR
